BEGIN:VCALENDAR
VERSION:2.0
PRODID:-//NADI Pekan Pakan - ECPv6.15.20//NONSGML v1.0//EN
CALSCALE:GREGORIAN
METHOD:PUBLISH
X-WR-CALNAME:NADI Pekan Pakan
X-ORIGINAL-URL:https://pekanpakan.nadi.my
X-WR-CALDESC:Events for NADI Pekan Pakan
REFRESH-INTERVAL;VALUE=DURATION:PT1H
X-Robots-Tag:noindex
X-PUBLISHED-TTL:PT1H
BEGIN:VTIMEZONE
TZID:Asia/Kuala_Lumpur
BEGIN:STANDARD
TZOFFSETFROM:+0800
TZOFFSETTO:+0800
TZNAME:+08
DTSTART:20240101T000000
END:STANDARD
END:VTIMEZONE
BEGIN:VEVENT
DTSTART;TZID=Asia/Kuala_Lumpur:20250903T090000
DTEND;TZID=Asia/Kuala_Lumpur:20250903T120000
DTSTAMP:20260426T085011
CREATED:20250910T034925Z
LAST-MODIFIED:20250910T034925Z
UID:1365-1756890000-1756900800@pekanpakan.nadi.my
SUMMARY:Program Kempen Internet Selamat (KIS) Di Sekolah SK Ng Kelangas Julau & SK Ng Merurun Julau
DESCRIPTION:Menjalankan program KIS memberi taklimat disekolah yang melibatkan semua pelajar tahap 1 & 2
URL:https://pekanpakan.nadi.my/event/program-kempen-internet-selamat-kis-di-sekolah-sk-ng-kelangas-julau-sk-ng-merurun-julau/
END:VEVENT
END:VCALENDAR