BEGIN:VCALENDAR
VERSION:2.0
PRODID:-//NADI Pekan Pakan - ECPv6.15.20//NONSGML v1.0//EN
CALSCALE:GREGORIAN
METHOD:PUBLISH
X-WR-CALNAME:NADI Pekan Pakan
X-ORIGINAL-URL:https://pekanpakan.nadi.my
X-WR-CALDESC:Events for NADI Pekan Pakan
REFRESH-INTERVAL;VALUE=DURATION:PT1H
X-Robots-Tag:noindex
X-PUBLISHED-TTL:PT1H
BEGIN:VTIMEZONE
TZID:Asia/Kuala_Lumpur
BEGIN:STANDARD
TZOFFSETFROM:+0800
TZOFFSETTO:+0800
TZNAME:+08
DTSTART:20240101T000000
END:STANDARD
END:VTIMEZONE
BEGIN:VEVENT
DTSTART;TZID=Asia/Kuala_Lumpur:20251016T140000
DTEND;TZID=Asia/Kuala_Lumpur:20251016T170000
DTSTAMP:20260425T214001
CREATED:20251015T022629Z
LAST-MODIFIED:20251015T022629Z
UID:1456-1760623200-1760634000@pekanpakan.nadi.my
SUMMARY:PRENEUE- EMPOWHER COHORT 5
DESCRIPTION:Webinar Pemasaran & Operasi Perniagaan
URL:https://pekanpakan.nadi.my/event/preneue-empowher-cohort-5/
LOCATION:NADI Pekan Pakan\, NADI Pekan Pakan
END:VEVENT
BEGIN:VEVENT
DTSTART;TZID=Asia/Kuala_Lumpur:20251016T150000
DTEND;TZID=Asia/Kuala_Lumpur:20251016T170000
DTSTAMP:20260425T214001
CREATED:20251015T022755Z
LAST-MODIFIED:20251015T022755Z
UID:1458-1760626800-1760634000@pekanpakan.nadi.my
SUMMARY:AWARENESS- Lindungi Data Peribadi & Buli Siber
DESCRIPTION:Lindungi Data Peribadi & Buli Siber
URL:https://pekanpakan.nadi.my/event/awareness-lindungi-data-peribadi-buli-siber/
LOCATION:NADI Pekan Pakan\, NADI Pekan Pakan
END:VEVENT
END:VCALENDAR