BEGIN:VCALENDAR
VERSION:2.0
PRODID:-//NADI Pekan Pakan - ECPv6.15.20//NONSGML v1.0//EN
CALSCALE:GREGORIAN
METHOD:PUBLISH
X-WR-CALNAME:NADI Pekan Pakan
X-ORIGINAL-URL:https://pekanpakan.nadi.my
X-WR-CALDESC:Events for NADI Pekan Pakan
REFRESH-INTERVAL;VALUE=DURATION:PT1H
X-Robots-Tag:noindex
X-PUBLISHED-TTL:PT1H
BEGIN:VTIMEZONE
TZID:Asia/Kuala_Lumpur
BEGIN:STANDARD
TZOFFSETFROM:+0800
TZOFFSETTO:+0800
TZNAME:+08
DTSTART:20240101T000000
END:STANDARD
END:VTIMEZONE
BEGIN:VEVENT
DTSTART;TZID=Asia/Kuala_Lumpur:20251208T080000
DTEND;TZID=Asia/Kuala_Lumpur:20251214T170000
DTSTAMP:20260425T183551
CREATED:20251209T023244Z
LAST-MODIFIED:20251209T023244Z
UID:1588-1765180800-1765731600@pekanpakan.nadi.my
SUMMARY:COHORT 6 :Pemasangan & Operasi Perniagaan & COHORT 8 : Video Perancangan Perniagaan & Perancangan Kewangan
DESCRIPTION:
URL:https://pekanpakan.nadi.my/event/cohort-6-pemasangan-operasi-perniagaan-cohort-8-video-perancangan-perniagaan-perancangan-kewangan/
LOCATION:NADI Pekan Pakan\, NADI Pekan Pakan
END:VEVENT
BEGIN:VEVENT
DTSTART;TZID=Asia/Kuala_Lumpur:20251208T090000
DTEND;TZID=Asia/Kuala_Lumpur:20251211T160000
DTSTAMP:20260425T183551
CREATED:20251209T022004Z
LAST-MODIFIED:20251209T022004Z
UID:1582-1765184400-1765468800@pekanpakan.nadi.my
SUMMARY:Kelas ICT Microsoft Office
DESCRIPTION:Pelajar Lepasan Tingkatan 5
URL:https://pekanpakan.nadi.my/event/kelas-ict-microsoft-office-2/
LOCATION:NADI Pekan Pakan\, NADI Pekan Pakan
END:VEVENT
BEGIN:VEVENT
DTSTART;TZID=Asia/Kuala_Lumpur:20251210T150000
DTEND;TZID=Asia/Kuala_Lumpur:20251210T160000
DTSTAMP:20260425T183551
CREATED:20251209T022244Z
LAST-MODIFIED:20251209T022244Z
UID:1586-1765378800-1765382400@pekanpakan.nadi.my
SUMMARY:Mahir Foto
DESCRIPTION:
URL:https://pekanpakan.nadi.my/event/mahir-foto/
LOCATION:NADI Pekan Pakan\, NADI Pekan Pakan
END:VEVENT
END:VCALENDAR