BEGIN:VCALENDAR
VERSION:2.0
PRODID:-//NADI Pekan Pakan - ECPv6.15.20//NONSGML v1.0//EN
CALSCALE:GREGORIAN
METHOD:PUBLISH
X-WR-CALNAME:NADI Pekan Pakan
X-ORIGINAL-URL:https://pekanpakan.nadi.my
X-WR-CALDESC:Events for NADI Pekan Pakan
REFRESH-INTERVAL;VALUE=DURATION:PT1H
X-Robots-Tag:noindex
X-PUBLISHED-TTL:PT1H
BEGIN:VTIMEZONE
TZID:Asia/Kuala_Lumpur
BEGIN:STANDARD
TZOFFSETFROM:+0800
TZOFFSETTO:+0800
TZNAME:+08
DTSTART:20250101T000000
END:STANDARD
END:VTIMEZONE
BEGIN:VEVENT
DTSTART;TZID=Asia/Kuala_Lumpur:20260112T090000
DTEND;TZID=Asia/Kuala_Lumpur:20260116T163000
DTSTAMP:20260424T142737
CREATED:20260107T023816Z
LAST-MODIFIED:20260107T023816Z
UID:1598-1768208400-1768581000@pekanpakan.nadi.my
SUMMARY:Kelas ICT - Microsoft Office
DESCRIPTION:Pelajar lepasan tingkatan 5
URL:https://pekanpakan.nadi.my/event/kelas-ict-microsoft-office-3/
LOCATION:NADI Pekan Pakan\, NADI Pekan Pakan
END:VEVENT
END:VCALENDAR