BEGIN:VCALENDAR
VERSION:2.0
PRODID:-//NADI Pekan Pakan - ECPv6.15.20//NONSGML v1.0//EN
CALSCALE:GREGORIAN
METHOD:PUBLISH
X-WR-CALNAME:NADI Pekan Pakan
X-ORIGINAL-URL:https://pekanpakan.nadi.my
X-WR-CALDESC:Events for NADI Pekan Pakan
REFRESH-INTERVAL;VALUE=DURATION:PT1H
X-Robots-Tag:noindex
X-PUBLISHED-TTL:PT1H
BEGIN:VTIMEZONE
TZID:Asia/Kuala_Lumpur
BEGIN:STANDARD
TZOFFSETFROM:+0800
TZOFFSETTO:+0800
TZNAME:+08
DTSTART:20250101T000000
END:STANDARD
END:VTIMEZONE
BEGIN:VEVENT
DTSTART;TZID=Asia/Kuala_Lumpur:20260317T080000
DTEND;TZID=Asia/Kuala_Lumpur:20260321T170000
DTSTAMP:20260423T165120
CREATED:20260311T021738Z
LAST-MODIFIED:20260311T021738Z
UID:1674-1773734400-1774112400@pekanpakan.nadi.my
SUMMARY:Kelas ICT - Microsoft Office (Basic)
DESCRIPTION:Kelas ICT ini terbuka kepada semua pelajar lepasan tingkatan 5 & 6.
URL:https://pekanpakan.nadi.my/event/kelas-ict-microsoft-office-basic-8/
LOCATION:NADI Pekan Pakan\, NADI Pekan Pakan
END:VEVENT
END:VCALENDAR