BEGIN:VCALENDAR
VERSION:2.0
PRODID:-//NADI Pekan Pakan - ECPv6.15.20//NONSGML v1.0//EN
CALSCALE:GREGORIAN
METHOD:PUBLISH
X-WR-CALNAME:NADI Pekan Pakan
X-ORIGINAL-URL:https://pekanpakan.nadi.my
X-WR-CALDESC:Events for NADI Pekan Pakan
REFRESH-INTERVAL;VALUE=DURATION:PT1H
X-Robots-Tag:noindex
X-PUBLISHED-TTL:PT1H
BEGIN:VTIMEZONE
TZID:Asia/Kuala_Lumpur
BEGIN:STANDARD
TZOFFSETFROM:+0800
TZOFFSETTO:+0800
TZNAME:+08
DTSTART:20240101T000000
END:STANDARD
END:VTIMEZONE
BEGIN:VTIMEZONE
TZID:UTC
BEGIN:STANDARD
TZOFFSETFROM:+0000
TZOFFSETTO:+0000
TZNAME:UTC
DTSTART:20230101T000000
END:STANDARD
END:VTIMEZONE
BEGIN:VEVENT
DTSTART;TZID=Asia/Kuala_Lumpur:20251212T080000
DTEND;TZID=Asia/Kuala_Lumpur:20251214T170000
DTSTAMP:20260424T131427
CREATED:20251209T023400Z
LAST-MODIFIED:20251209T023503Z
UID:1590-1765526400-1765731600@pekanpakan.nadi.my
SUMMARY:Awerness Class- Undang-Undang & Regulasi E-Sukan Malaysia
DESCRIPTION:
URL:https://pekanpakan.nadi.my/event/awerness-class-undang-undang-regulasi-e-sukan-malaysia/
LOCATION:NADI Pekan Pakan\, NADI Pekan Pakan
CATEGORIES:DEFAULT
END:VEVENT
BEGIN:VEVENT
DTSTART;TZID=Asia/Kuala_Lumpur:20251126T090000
DTEND;TZID=Asia/Kuala_Lumpur:20251126T160000
DTSTAMP:20260424T131427
CREATED:20251105T023549Z
LAST-MODIFIED:20251105T023549Z
UID:1510-1764147600-1764172800@pekanpakan.nadi.my
SUMMARY:Program Kempen Internet Selamat (KIS)
DESCRIPTION:KIS Di Sekolah Ulu Entabai
URL:https://pekanpakan.nadi.my/event/program-kempen-internet-selamat-kis-4/
LOCATION:SK Ulu Entabai
CATEGORIES:DEFAULT
END:VEVENT
BEGIN:VEVENT
DTSTART;TZID=Asia/Kuala_Lumpur:20251117T090000
DTEND;TZID=Asia/Kuala_Lumpur:20251117T120000
DTSTAMP:20260424T131427
CREATED:20251105T023133Z
LAST-MODIFIED:20251105T023133Z
UID:1507-1763370000-1763380800@pekanpakan.nadi.my
SUMMARY:Program Kempen Internet Selamat (KIS)
DESCRIPTION:KIS di Sekolah Nanga Kota
URL:https://pekanpakan.nadi.my/event/program-kempen-internet-selamat-kis-3/
LOCATION:SK NG KOTA
CATEGORIES:DEFAULT
END:VEVENT
BEGIN:VEVENT
DTSTART;TZID=UTC:20241229T090000
DTEND;TZID=UTC:20241229T170000
DTSTAMP:20260424T131427
CREATED:20241209T000926Z
LAST-MODIFIED:20241209T000926Z
UID:973-1735462800-1735491600@pekanpakan.nadi.my
SUMMARY:Kelas ICT -Asas Microsoft Office
DESCRIPTION:
URL:https://pekanpakan.nadi.my/event/kelas-ict-asas-microsoft-office/
LOCATION:NADI Pekan Pakan\, NADI Pekan Pakan
CATEGORIES:DEFAULT
END:VEVENT
BEGIN:VEVENT
DTSTART;TZID=UTC:20241219T090000
DTEND;TZID=UTC:20241219T110000
DTSTAMP:20260424T131427
CREATED:20241209T000820Z
LAST-MODIFIED:20241209T000820Z
UID:972-1734598800-1734606000@pekanpakan.nadi.my
SUMMARY:Program Perkhidmatan Pintar NADI Di Sekolah Kebangsaan Babai Pakan
DESCRIPTION:
URL:https://pekanpakan.nadi.my/event/program-perkhidmatan-pintar-nadi-di-sekolah-kebangsaan-babai-pakan/
LOCATION:SK BABAI\, SK BABAI
CATEGORIES:DEFAULT
END:VEVENT
BEGIN:VEVENT
DTSTART;TZID=UTC:20241212T090000
DTEND;TZID=UTC:20241212T110000
DTSTAMP:20260424T131427
CREATED:20241209T000722Z
LAST-MODIFIED:20241209T000722Z
UID:970-1733994000-1734001200@pekanpakan.nadi.my
SUMMARY:Program Taklimat Perkhidmatan Pintar NADI Di Sekolah Kebangsaan Nanga Engkamop
DESCRIPTION:
URL:https://pekanpakan.nadi.my/event/program-taklimat-perkhidmatan-pintar-nadi-di-sekolah-kebangsaan-nanga-engkamop/
LOCATION:SK Nanga Engkamop\, SK Nanga Engkamop
CATEGORIES:DEFAULT
END:VEVENT
BEGIN:VEVENT
DTSTART;TZID=UTC:20241211T143000
DTEND;TZID=UTC:20241211T170000
DTSTAMP:20260424T131427
CREATED:20241209T000550Z
LAST-MODIFIED:20241209T000550Z
UID:968-1733927400-1733936400@pekanpakan.nadi.my
SUMMARY:NADI Mahir
DESCRIPTION:
URL:https://pekanpakan.nadi.my/event/nadi-mahir/
LOCATION:NADI Pekan Pakan\, NADI Pekan Pakan
CATEGORIES:DEFAULT
END:VEVENT
BEGIN:VEVENT
DTSTART;TZID=UTC:20241206T080000
DTEND;TZID=UTC:20241206T110000
DTSTAMP:20260424T131427
CREATED:20241209T000416Z
LAST-MODIFIED:20241209T000416Z
UID:967-1733472000-1733482800@pekanpakan.nadi.my
SUMMARY:Program Taklimat Perkhidmatan Pintar NADI Di Sekolah Kebangsaan Nanga Pakan
DESCRIPTION:
URL:https://pekanpakan.nadi.my/event/program-taklimat-perkhidmatan-pintar-nadi-di-sekolah-kebangsaan-nanga-pakan/
LOCATION:SK Nanga Pakan\, SK Nanga Pakan
CATEGORIES:DEFAULT
END:VEVENT
BEGIN:VEVENT
DTSTART;TZID=UTC:20241130T100000
DTEND;TZID=UTC:20241130T120000
DTSTAMP:20260424T131427
CREATED:20241105T224638Z
LAST-MODIFIED:20241105T224638Z
UID:965-1732960800-1732968000@pekanpakan.nadi.my
SUMMARY:KELAS ICT (Asas Menaip) KMKK
DESCRIPTION:
URL:https://pekanpakan.nadi.my/event/kelas-ict-asas-menaip-kmkk/
LOCATION:NADI Pekan Pakan\, NADI Pekan Pakan
CATEGORIES:DEFAULT
END:VEVENT
BEGIN:VEVENT
DTSTART;TZID=UTC:20241125T140000
DTEND;TZID=UTC:20241125T170000
DTSTAMP:20260424T131427
CREATED:20241105T224407Z
LAST-MODIFIED:20241105T224407Z
UID:964-1732543200-1732554000@pekanpakan.nadi.my
SUMMARY:Asas Penggunaan ChatGPT
DESCRIPTION:
URL:https://pekanpakan.nadi.my/event/asas-penggunaan-chatgpt/
LOCATION:NADI Pekan Pakan\, NADI Pekan Pakan
CATEGORIES:DEFAULT
END:VEVENT
BEGIN:VEVENT
DTSTART;TZID=UTC:20241122T090000
DTEND;TZID=UTC:20241122T130000
DTSTAMP:20260424T131427
CREATED:20241105T224125Z
LAST-MODIFIED:20241105T224125Z
UID:963-1732266000-1732280400@pekanpakan.nadi.my
SUMMARY:Kelas ICT ( BASIC)
DESCRIPTION:
URL:https://pekanpakan.nadi.my/event/kelas-ict-basic-3/
LOCATION:NADI Pekan Pakan\, NADI Pekan Pakan
CATEGORIES:DEFAULT
END:VEVENT
BEGIN:VEVENT
DTSTART;TZID=UTC:20241116T140000
DTEND;TZID=UTC:20241116T170000
DTSTAMP:20260424T131427
CREATED:20241105T224013Z
LAST-MODIFIED:20241105T224013Z
UID:962-1731765600-1731776400@pekanpakan.nadi.my
SUMMARY:Klik Dengan Bijak - Siber Buli
DESCRIPTION:
URL:https://pekanpakan.nadi.my/event/klik-dengan-bijak-siber-buli/
LOCATION:NADI Pekan Pakan\, NADI Pekan Pakan
CATEGORIES:DEFAULT
END:VEVENT
BEGIN:VEVENT
DTSTART;TZID=UTC:20241108T140000
DTEND;TZID=UTC:20241108T170000
DTSTAMP:20260424T131427
CREATED:20241105T223830Z
LAST-MODIFIED:20241105T223830Z
UID:961-1731074400-1731085200@pekanpakan.nadi.my
SUMMARY:Kelas Canva - Slide
DESCRIPTION:
URL:https://pekanpakan.nadi.my/event/kelas-canva-slide/
LOCATION:NADI Pekan Pakan\, NADI Pekan Pakan
CATEGORIES:DEFAULT
END:VEVENT
BEGIN:VEVENT
DTSTART;TZID=UTC:20241030T083000
DTEND;TZID=UTC:20241030T123000
DTSTAMP:20260424T131427
CREATED:20241006T165124Z
LAST-MODIFIED:20241006T165124Z
UID:960-1730277000-1730291400@pekanpakan.nadi.my
SUMMARY:Kelas AI & ChatGPT (Ketua Kaum)
DESCRIPTION:
URL:https://pekanpakan.nadi.my/event/kelas-ai-chatgpt-ketua-kaum/
LOCATION:NADI Pekan Pakan\, NADI Pekan Pakan
CATEGORIES:DEFAULT
END:VEVENT
BEGIN:VEVENT
DTSTART;TZID=UTC:20241025T020000
DTEND;TZID=UTC:20241025T170000
DTSTAMP:20260424T131427
CREATED:20241006T165024Z
LAST-MODIFIED:20241006T165024Z
UID:959-1729821600-1729875600@pekanpakan.nadi.my
SUMMARY:Kelas Canva (Poster)
DESCRIPTION:
URL:https://pekanpakan.nadi.my/event/kelas-canva-poster/
LOCATION:NADI Pekan Pakan\, NADI Pekan Pakan
CATEGORIES:DEFAULT
END:VEVENT
BEGIN:VEVENT
DTSTART;TZID=UTC:20241018T090000
DTEND;TZID=UTC:20241018T163000
DTSTAMP:20260424T131427
CREATED:20241006T164916Z
LAST-MODIFIED:20241006T164916Z
UID:958-1729242000-1729269000@pekanpakan.nadi.my
SUMMARY:Kelas ICT (Microsoft Office)
DESCRIPTION:
URL:https://pekanpakan.nadi.my/event/kelas-ict-microsoft-office/
LOCATION:NADI Pekan Pakan\, NADI Pekan Pakan
CATEGORIES:DEFAULT
END:VEVENT
BEGIN:VEVENT
DTSTART;TZID=UTC:20241014T140000
DTEND;TZID=UTC:20241014T170000
DTSTAMP:20260424T131427
CREATED:20241006T164832Z
LAST-MODIFIED:20241006T164832Z
UID:957-1728914400-1728925200@pekanpakan.nadi.my
SUMMARY:Klik Dengan Bijak (Buli Siber)
DESCRIPTION:
URL:https://pekanpakan.nadi.my/event/klik-dengan-bijak-buli-siber/
LOCATION:NADI Pekan Pakan\, NADI Pekan Pakan
CATEGORIES:DEFAULT
END:VEVENT
BEGIN:VEVENT
DTSTART;TZID=UTC:20240930T140000
DTEND;TZID=UTC:20240930T170000
DTSTAMP:20260424T131427
CREATED:20240905T233747Z
LAST-MODIFIED:20240905T233747Z
UID:955-1727704800-1727715600@pekanpakan.nadi.my
SUMMARY:Canva (Kad Perniagaan)
DESCRIPTION:
URL:https://pekanpakan.nadi.my/event/canva-kad-perniagaan-3/
LOCATION:NADI Pekan Pakan\, NADI Pekan Pakan
CATEGORIES:DEFAULT
END:VEVENT
BEGIN:VEVENT
DTSTART;TZID=UTC:20240920T090000
DTEND;TZID=UTC:20240920T163000
DTSTAMP:20260424T131427
CREATED:20240905T233713Z
LAST-MODIFIED:20240905T233713Z
UID:954-1726822800-1726849800@pekanpakan.nadi.my
SUMMARY:Kelas Microsoft Office (BASIC)
DESCRIPTION:
URL:https://pekanpakan.nadi.my/event/kelas-microsoft-office-basic-6/
LOCATION:NADI Pekan Pakan\, NADI Pekan Pakan
CATEGORIES:DEFAULT
END:VEVENT
BEGIN:VEVENT
DTSTART;TZID=UTC:20240913T090000
DTEND;TZID=UTC:20240913T123000
DTSTAMP:20260424T131427
CREATED:20240905T234002Z
LAST-MODIFIED:20240905T234002Z
UID:956-1726218000-1726230600@pekanpakan.nadi.my
SUMMARY:Digital Literacy For Elderly Women
DESCRIPTION:
URL:https://pekanpakan.nadi.my/event/digital-literacy-for-elderly-women/
LOCATION:NADI Pekan Pakan\, NADI Pekan Pakan
CATEGORIES:DEFAULT
END:VEVENT
BEGIN:VEVENT
DTSTART;TZID=UTC:20240906T140000
DTEND;TZID=UTC:20240906T170000
DTSTAMP:20260424T131427
CREATED:20240905T233334Z
LAST-MODIFIED:20240905T233334Z
UID:953-1725631200-1725642000@pekanpakan.nadi.my
SUMMARY:Klik Dengan Bijak
DESCRIPTION:
URL:https://pekanpakan.nadi.my/event/klik-dengan-bijak-28/
LOCATION:NADI Pekan Pakan\, NADI Pekan Pakan
CATEGORIES:DEFAULT
END:VEVENT
BEGIN:VEVENT
DTSTART;TZID=UTC:20240830T090000
DTEND;TZID=UTC:20240830T123000
DTSTAMP:20260424T131427
CREATED:20240804T173209Z
LAST-MODIFIED:20240804T173209Z
UID:829-1725008400-1725021000@pekanpakan.nadi.my
SUMMARY:ChatGPT- Resume & Surat Rasmi
DESCRIPTION:
URL:https://pekanpakan.nadi.my/event/chatgpt-resume-surat-rasmi/
LOCATION:NADI Pekan Pakan\, NADI Pekan Pakan
CATEGORIES:DEFAULT
END:VEVENT
BEGIN:VEVENT
DTSTART;TZID=UTC:20240823T140000
DTEND;TZID=UTC:20240823T170000
DTSTAMP:20260424T131427
CREATED:20240804T173037Z
LAST-MODIFIED:20240804T173037Z
UID:828-1724421600-1724432400@pekanpakan.nadi.my
SUMMARY:Canva &AI Untuk Rakyat
DESCRIPTION:
URL:https://pekanpakan.nadi.my/event/canva-ai-untuk-rakyat/
LOCATION:NADI Pekan Pakan\, NADI Pekan Pakan
CATEGORIES:DEFAULT
END:VEVENT
BEGIN:VEVENT
DTSTART;TZID=UTC:20240812T090000
DTEND;TZID=UTC:20240812T163000
DTSTAMP:20260424T131427
CREATED:20240804T172911Z
LAST-MODIFIED:20240804T172911Z
UID:827-1723453200-1723480200@pekanpakan.nadi.my
SUMMARY:Kelas Microsoft Office (BASIC)
DESCRIPTION:
URL:https://pekanpakan.nadi.my/event/kelas-microsoft-office-basic-5/
LOCATION:NADI Pekan Pakan\, NADI Pekan Pakan
CATEGORIES:DEFAULT
END:VEVENT
BEGIN:VEVENT
DTSTART;TZID=UTC:20240805T140000
DTEND;TZID=UTC:20240805T170000
DTSTAMP:20260424T131427
CREATED:20240804T172829Z
LAST-MODIFIED:20240804T172829Z
UID:826-1722866400-1722877200@pekanpakan.nadi.my
SUMMARY:Advokasi KDB- BULI SIBER
DESCRIPTION:
URL:https://pekanpakan.nadi.my/event/advokasi-kdb-buli-siber/
LOCATION:NADI Pekan Pakan\, NADI Pekan Pakan
CATEGORIES:DEFAULT
END:VEVENT
BEGIN:VEVENT
DTSTART;TZID=UTC:20240730T140000
DTEND;TZID=UTC:20240730T170000
DTSTAMP:20260424T131427
CREATED:20240701T223728Z
LAST-MODIFIED:20240701T223728Z
UID:825-1722348000-1722358800@pekanpakan.nadi.my
SUMMARY:AI Untuk Rakyat (Pelajar Lepasan Sekolah Menengah)
DESCRIPTION:
URL:https://pekanpakan.nadi.my/event/ai-untuk-rakyat-pelajar-lepasan-sekolah-menengah/
LOCATION:NADI Pekan Pakan\, NADI Pekan Pakan
CATEGORIES:DEFAULT
END:VEVENT
BEGIN:VEVENT
DTSTART;TZID=UTC:20240720T140000
DTEND;TZID=UTC:20240720T170000
DTSTAMP:20260424T131427
CREATED:20240701T223549Z
LAST-MODIFIED:20240701T223549Z
UID:824-1721484000-1721494800@pekanpakan.nadi.my
SUMMARY:Klik Dengan Bijak
DESCRIPTION:
URL:https://pekanpakan.nadi.my/event/klik-dengan-bijak-27/
LOCATION:NADI Pekan Pakan\, NADI Pekan Pakan
CATEGORIES:DEFAULT
END:VEVENT
BEGIN:VEVENT
DTSTART;TZID=UTC:20240712T140000
DTEND;TZID=UTC:20240712T170000
DTSTAMP:20260424T131427
CREATED:20240701T223500Z
LAST-MODIFIED:20240701T223500Z
UID:823-1720792800-1720803600@pekanpakan.nadi.my
SUMMARY:Kelas Microsoft Excel
DESCRIPTION:
URL:https://pekanpakan.nadi.my/event/kelas-microsoft-excel-5/
LOCATION:NADI Pekan Pakan\, NADI Pekan Pakan
CATEGORIES:DEFAULT
END:VEVENT
BEGIN:VEVENT
DTSTART;TZID=UTC:20240708T090000
DTEND;TZID=UTC:20240708T163000
DTSTAMP:20260424T131427
CREATED:20240701T223401Z
LAST-MODIFIED:20240701T223401Z
UID:822-1720429200-1720456200@pekanpakan.nadi.my
SUMMARY:Kelas ICT Microsoft Office (Basic)
DESCRIPTION:
URL:https://pekanpakan.nadi.my/event/kelas-ict-microsoft-office-basic-6/
LOCATION:NADI Pekan Pakan\, NADI Pekan Pakan
CATEGORIES:DEFAULT
END:VEVENT
BEGIN:VEVENT
DTSTART;TZID=UTC:20240705T140000
DTEND;TZID=UTC:20240705T170000
DTSTAMP:20260424T131427
CREATED:20240701T223307Z
LAST-MODIFIED:20240701T223307Z
UID:821-1720188000-1720198800@pekanpakan.nadi.my
SUMMARY:Kelas Asas Canva Business Card
DESCRIPTION:
URL:https://pekanpakan.nadi.my/event/kelas-asas-canva-business-card/
LOCATION:NADI Pekan Pakan\, NADI Pekan Pakan
CATEGORIES:DEFAULT
END:VEVENT
END:VCALENDAR