BEGIN:VCALENDAR
VERSION:2.0
PRODID:-//NADI Pekan Pakan - ECPv6.15.20//NONSGML v1.0//EN
CALSCALE:GREGORIAN
METHOD:PUBLISH
X-WR-CALNAME:NADI Pekan Pakan
X-ORIGINAL-URL:https://pekanpakan.nadi.my
X-WR-CALDESC:Events for NADI Pekan Pakan
REFRESH-INTERVAL;VALUE=DURATION:PT1H
X-Robots-Tag:noindex
X-PUBLISHED-TTL:PT1H
BEGIN:VTIMEZONE
TZID:Asia/Kuala_Lumpur
BEGIN:STANDARD
TZOFFSETFROM:+0800
TZOFFSETTO:+0800
TZNAME:+08
DTSTART:20240101T000000
END:STANDARD
END:VTIMEZONE
BEGIN:VEVENT
DTSTART;TZID=Asia/Kuala_Lumpur:20260317T080000
DTEND;TZID=Asia/Kuala_Lumpur:20260321T170000
DTSTAMP:20260422T184654
CREATED:20260311T021738Z
LAST-MODIFIED:20260311T021738Z
UID:1674-1773734400-1774112400@pekanpakan.nadi.my
SUMMARY:Kelas ICT - Microsoft Office (Basic)
DESCRIPTION:Kelas ICT ini terbuka kepada semua pelajar lepasan tingkatan 5 & 6.
URL:https://pekanpakan.nadi.my/event/kelas-ict-microsoft-office-basic-8/
LOCATION:NADI Pekan Pakan\, NADI Pekan Pakan
END:VEVENT
BEGIN:VEVENT
DTSTART;TZID=Asia/Kuala_Lumpur:20260314T080000
DTEND;TZID=Asia/Kuala_Lumpur:20260314T160000
DTSTAMP:20260422T184654
CREATED:20260311T021537Z
LAST-MODIFIED:20260311T021537Z
UID:1671-1773475200-1773504000@pekanpakan.nadi.my
SUMMARY:Bazaar Raya NADI
DESCRIPTION:
URL:https://pekanpakan.nadi.my/event/bazaar-raya-nadi/
END:VEVENT
BEGIN:VEVENT
DTSTART;TZID=Asia/Kuala_Lumpur:20260225T150000
DTEND;TZID=Asia/Kuala_Lumpur:20260225T163000
DTSTAMP:20260422T184654
CREATED:20260211T020009Z
LAST-MODIFIED:20260211T020325Z
UID:1633-1772031600-1772037000@pekanpakan.nadi.my
SUMMARY:NADI MAHIR - JAHIT
DESCRIPTION:
URL:https://pekanpakan.nadi.my/event/nadi-mahir-jahit/
LOCATION:NADI Pekan Pakan\, NADI Pekan Pakan
END:VEVENT
BEGIN:VEVENT
DTSTART;TZID=Asia/Kuala_Lumpur:20260217T090000
DTEND;TZID=Asia/Kuala_Lumpur:20260221T163000
DTSTAMP:20260422T184655
CREATED:20260211T015552Z
LAST-MODIFIED:20260211T015552Z
UID:1631-1771318800-1771691400@pekanpakan.nadi.my
SUMMARY:Kelas ICT - Pelajar Lepasan Tingkatan 5 & 6
DESCRIPTION:Belajar ICT asas Microsoft Office
URL:https://pekanpakan.nadi.my/event/kelas-ict-pelajar-lepasan-tingkatan-5-6/
LOCATION:NADI Pekan Pakan\, NADI Pekan Pakan
END:VEVENT
BEGIN:VEVENT
DTSTART;TZID=Asia/Kuala_Lumpur:20260213T093000
DTEND;TZID=Asia/Kuala_Lumpur:20260213T110000
DTSTAMP:20260422T184655
CREATED:20260211T020252Z
LAST-MODIFIED:20260211T020252Z
UID:1636-1770975000-1770980400@pekanpakan.nadi.my
SUMMARY:NADI Mahir - Masak
DESCRIPTION:
URL:https://pekanpakan.nadi.my/event/nadi-mahir-masak-6/
LOCATION:NADI Pekan Pakan\, NADI Pekan Pakan
END:VEVENT
BEGIN:VEVENT
DTSTART;TZID=Asia/Kuala_Lumpur:20260121T150000
DTEND;TZID=Asia/Kuala_Lumpur:20260121T163000
DTSTAMP:20260422T184655
CREATED:20260115T062804Z
LAST-MODIFIED:20260115T062851Z
UID:1612-1769007600-1769013000@pekanpakan.nadi.my
SUMMARY:NADI Mahir - Menjahit
DESCRIPTION:
URL:https://pekanpakan.nadi.my/event/canva-resume-5/
LOCATION:NADI Pekan Pakan\, NADI Pekan Pakan
END:VEVENT
BEGIN:VEVENT
DTSTART;TZID=Asia/Kuala_Lumpur:20260119T090000
DTEND;TZID=Asia/Kuala_Lumpur:20260123T163000
DTSTAMP:20260422T184655
CREATED:20260115T062708Z
LAST-MODIFIED:20260115T062708Z
UID:1610-1768813200-1769185800@pekanpakan.nadi.my
SUMMARY:Kelas Microsoft Office Power Point
DESCRIPTION:Pelajar Lepasan Tingkatan 5
URL:https://pekanpakan.nadi.my/event/kelas-microsoft-office-power-point/
LOCATION:NADI Pekan Pakan\, NADI Pekan Pakan
END:VEVENT
BEGIN:VEVENT
DTSTART;TZID=Asia/Kuala_Lumpur:20260112T090000
DTEND;TZID=Asia/Kuala_Lumpur:20260116T163000
DTSTAMP:20260422T184655
CREATED:20260107T023816Z
LAST-MODIFIED:20260107T023816Z
UID:1598-1768208400-1768581000@pekanpakan.nadi.my
SUMMARY:Kelas ICT - Microsoft Office
DESCRIPTION:Pelajar lepasan tingkatan 5
URL:https://pekanpakan.nadi.my/event/kelas-ict-microsoft-office-3/
LOCATION:NADI Pekan Pakan\, NADI Pekan Pakan
END:VEVENT
BEGIN:VEVENT
DTSTART;TZID=Asia/Kuala_Lumpur:20260109T080000
DTEND;TZID=Asia/Kuala_Lumpur:20260109T170000
DTSTAMP:20260422T184655
CREATED:20260107T024741Z
LAST-MODIFIED:20260107T024741Z
UID:1602-1767945600-1767978000@pekanpakan.nadi.my
SUMMARY:pendaftaran Mahir Jahit
DESCRIPTION:Pendaftran sedang terbuka
URL:https://pekanpakan.nadi.my/event/pendaftaran-mahir-jahit/
LOCATION:NADI Pekan Pakan\, NADI Pekan Pakan
END:VEVENT
BEGIN:VEVENT
DTSTART;TZID=Asia/Kuala_Lumpur:20260108T090000
DTEND;TZID=Asia/Kuala_Lumpur:20260108T163000
DTSTAMP:20260422T184655
CREATED:20260107T023952Z
LAST-MODIFIED:20260107T023952Z
UID:1600-1767862800-1767889800@pekanpakan.nadi.my
SUMMARY:Canva - Resume
DESCRIPTION:Pelajar Lepasan Tingkatan 5
URL:https://pekanpakan.nadi.my/event/canva-resume-4/
LOCATION:NADI Pekan Pakan\, NADI Pekan Pakan
END:VEVENT
BEGIN:VEVENT
DTSTART;TZID=Asia/Kuala_Lumpur:20251220T090000
DTEND;TZID=Asia/Kuala_Lumpur:20251220T103000
DTSTAMP:20260422T184655
CREATED:20251209T022058Z
LAST-MODIFIED:20251209T022058Z
UID:1584-1766221200-1766226600@pekanpakan.nadi.my
SUMMARY:Komuniti Madani Minggu Ke-3
DESCRIPTION:
URL:https://pekanpakan.nadi.my/event/komuniti-madani-minggu-ke-3-2/
LOCATION:NADI Pekan Pakan\, NADI Pekan Pakan
END:VEVENT
BEGIN:VEVENT
DTSTART;TZID=Asia/Kuala_Lumpur:20251212T080000
DTEND;TZID=Asia/Kuala_Lumpur:20251214T170000
DTSTAMP:20260422T184655
CREATED:20251209T023400Z
LAST-MODIFIED:20251209T023503Z
UID:1590-1765526400-1765731600@pekanpakan.nadi.my
SUMMARY:Awerness Class- Undang-Undang & Regulasi E-Sukan Malaysia
DESCRIPTION:
URL:https://pekanpakan.nadi.my/event/awerness-class-undang-undang-regulasi-e-sukan-malaysia/
LOCATION:NADI Pekan Pakan\, NADI Pekan Pakan
CATEGORIES:DEFAULT
END:VEVENT
BEGIN:VEVENT
DTSTART;TZID=Asia/Kuala_Lumpur:20251210T150000
DTEND;TZID=Asia/Kuala_Lumpur:20251210T160000
DTSTAMP:20260422T184655
CREATED:20251209T022244Z
LAST-MODIFIED:20251209T022244Z
UID:1586-1765378800-1765382400@pekanpakan.nadi.my
SUMMARY:Mahir Foto
DESCRIPTION:
URL:https://pekanpakan.nadi.my/event/mahir-foto/
LOCATION:NADI Pekan Pakan\, NADI Pekan Pakan
END:VEVENT
BEGIN:VEVENT
DTSTART;TZID=Asia/Kuala_Lumpur:20251208T090000
DTEND;TZID=Asia/Kuala_Lumpur:20251211T160000
DTSTAMP:20260422T184655
CREATED:20251209T022004Z
LAST-MODIFIED:20251209T022004Z
UID:1582-1765184400-1765468800@pekanpakan.nadi.my
SUMMARY:Kelas ICT Microsoft Office
DESCRIPTION:Pelajar Lepasan Tingkatan 5
URL:https://pekanpakan.nadi.my/event/kelas-ict-microsoft-office-2/
LOCATION:NADI Pekan Pakan\, NADI Pekan Pakan
END:VEVENT
BEGIN:VEVENT
DTSTART;TZID=Asia/Kuala_Lumpur:20251208T080000
DTEND;TZID=Asia/Kuala_Lumpur:20251214T170000
DTSTAMP:20260422T184655
CREATED:20251209T023244Z
LAST-MODIFIED:20251209T023244Z
UID:1588-1765180800-1765731600@pekanpakan.nadi.my
SUMMARY:COHORT 6 :Pemasangan & Operasi Perniagaan & COHORT 8 : Video Perancangan Perniagaan & Perancangan Kewangan
DESCRIPTION:
URL:https://pekanpakan.nadi.my/event/cohort-6-pemasangan-operasi-perniagaan-cohort-8-video-perancangan-perniagaan-perancangan-kewangan/
LOCATION:NADI Pekan Pakan\, NADI Pekan Pakan
END:VEVENT
BEGIN:VEVENT
DTSTART;TZID=Asia/Kuala_Lumpur:20251206T090000
DTEND;TZID=Asia/Kuala_Lumpur:20251206T103000
DTSTAMP:20260422T184655
CREATED:20251209T021853Z
LAST-MODIFIED:20251209T021853Z
UID:1580-1765011600-1765017000@pekanpakan.nadi.my
SUMMARY:Komuniti Madani Minggu Pertama
DESCRIPTION:
URL:https://pekanpakan.nadi.my/event/komuniti-madani-minggu-pertama/
LOCATION:NADI Pekan Pakan\, NADI Pekan Pakan
END:VEVENT
BEGIN:VEVENT
DTSTART;TZID=Asia/Kuala_Lumpur:20251126T090000
DTEND;TZID=Asia/Kuala_Lumpur:20251126T160000
DTSTAMP:20260422T184655
CREATED:20251105T023549Z
LAST-MODIFIED:20251105T023549Z
UID:1510-1764147600-1764172800@pekanpakan.nadi.my
SUMMARY:Program Kempen Internet Selamat (KIS)
DESCRIPTION:KIS Di Sekolah Ulu Entabai
URL:https://pekanpakan.nadi.my/event/program-kempen-internet-selamat-kis-4/
LOCATION:SK Ulu Entabai
CATEGORIES:DEFAULT
END:VEVENT
BEGIN:VEVENT
DTSTART;TZID=Asia/Kuala_Lumpur:20251117T090000
DTEND;TZID=Asia/Kuala_Lumpur:20251117T120000
DTSTAMP:20260422T184655
CREATED:20251105T023133Z
LAST-MODIFIED:20251105T023133Z
UID:1507-1763370000-1763380800@pekanpakan.nadi.my
SUMMARY:Program Kempen Internet Selamat (KIS)
DESCRIPTION:KIS di Sekolah Nanga Kota
URL:https://pekanpakan.nadi.my/event/program-kempen-internet-selamat-kis-3/
LOCATION:SK NG KOTA
CATEGORIES:DEFAULT
END:VEVENT
BEGIN:VEVENT
DTSTART;TZID=Asia/Kuala_Lumpur:20251115T080000
DTEND;TZID=Asia/Kuala_Lumpur:20251115T120000
DTSTAMP:20260422T184655
CREATED:20251105T022833Z
LAST-MODIFIED:20251105T022833Z
UID:1504-1763193600-1763208000@pekanpakan.nadi.my
SUMMARY:E-Sport - Pertandingan ML
DESCRIPTION:Diantara NADI Jerijih\, NADI Sebandi Ulu dan NADI Hilir Maludam
URL:https://pekanpakan.nadi.my/event/e-sport-pertandingan-ml/
LOCATION:NADI Pekan Pakan\, NADI Pekan Pakan
END:VEVENT
BEGIN:VEVENT
DTSTART;TZID=Asia/Kuala_Lumpur:20251022T080000
DTEND;TZID=Asia/Kuala_Lumpur:20251022T170000
DTSTAMP:20260422T184655
CREATED:20251021T004455Z
LAST-MODIFIED:20251021T004455Z
UID:1500-1761120000-1761152400@pekanpakan.nadi.my
SUMMARY:Program Kempen Internet Selamat (KIS)
DESCRIPTION:SK Ulu Pedanum Pakan & Sk Sg Sugai
URL:https://pekanpakan.nadi.my/event/program-kempen-internet-selamat-kis-2/
LOCATION:SK ULU PEDANUM & SK SG SUGAI
END:VEVENT
BEGIN:VEVENT
DTSTART;TZID=Asia/Kuala_Lumpur:20251019T100000
DTEND;TZID=Asia/Kuala_Lumpur:20251019T230000
DTSTAMP:20260422T184655
CREATED:20251015T023643Z
LAST-MODIFIED:20251015T023643Z
UID:1468-1760868000-1760914800@pekanpakan.nadi.my
SUMMARY:WELLBEING - REACH
DESCRIPTION:General Screening @ NADI PPR Batu Gong
URL:https://pekanpakan.nadi.my/event/wellbeing-reach/
LOCATION:NADI Pekan Pakan\, NADI Pekan Pakan
END:VEVENT
BEGIN:VEVENT
DTSTART;TZID=Asia/Kuala_Lumpur:20251018T150000
DTEND;TZID=Asia/Kuala_Lumpur:20251018T170000
DTSTAMP:20260422T184655
CREATED:20251015T023516Z
LAST-MODIFIED:20251015T023516Z
UID:1466-1760799600-1760806800@pekanpakan.nadi.my
SUMMARY:AWARENESS-SAFE : Deepfake & AI\, SHIELD : Shopping Scam\, Webinar Safe & Shield Peragold
DESCRIPTION:Deepfake & AI\, SHIELD : Shopping Scam\, Webinar Safe & Shield Peragold
URL:https://pekanpakan.nadi.my/event/awareness-safe-deepfake-ai-shield-shopping-scam-webinar-safe-shield-peragold/
LOCATION:NADI Pekan Pakan\, NADI Pekan Pakan
END:VEVENT
BEGIN:VEVENT
DTSTART;TZID=Asia/Kuala_Lumpur:20251018T140000
DTEND;TZID=Asia/Kuala_Lumpur:20251018T150000
DTSTAMP:20260422T184655
CREATED:20251015T023330Z
LAST-MODIFIED:20251015T023330Z
UID:1464-1760796000-1760799600@pekanpakan.nadi.my
SUMMARY:TINY TECHIES - Robotic Class For Primary & Innovation Class Secondary Students (LMS)
DESCRIPTION:Robotic Class For Primary & Innovation Class Secondary Students (LMS)
URL:https://pekanpakan.nadi.my/event/tiny-techies-robotic-class-for-primary-innovation-class-secondary-students-lms/
LOCATION:NADI Pekan Pakan\, NADI Pekan Pakan
END:VEVENT
BEGIN:VEVENT
DTSTART;TZID=Asia/Kuala_Lumpur:20251018T103000
DTEND;TZID=Asia/Kuala_Lumpur:20251018T113000
DTSTAMP:20260422T184655
CREATED:20251015T023137Z
LAST-MODIFIED:20251015T023137Z
UID:1462-1760783400-1760787000@pekanpakan.nadi.my
SUMMARY:WELLBEING - Physical : Fun Fit Teens
DESCRIPTION:WELLBEING – Physical : Fun Fit Teens
URL:https://pekanpakan.nadi.my/event/wellbeing-physical-fun-fit-teens/
LOCATION:NADI Pekan Pakan\, NADI Pekan Pakan
END:VEVENT
BEGIN:VEVENT
DTSTART;TZID=Asia/Kuala_Lumpur:20251017T150000
DTEND;TZID=Asia/Kuala_Lumpur:20251017T170000
DTSTAMP:20260422T184655
CREATED:20251015T022932Z
LAST-MODIFIED:20251015T022932Z
UID:1460-1760713200-1760720400@pekanpakan.nadi.my
SUMMARY:WELLBEING - Webinar : Sihat Dari Akar Umbi
DESCRIPTION:Sihat Dari Akar Umbi
URL:https://pekanpakan.nadi.my/event/wellbeing-webinar-sihat-dari-akar-umbi/
LOCATION:NADI Pekan Pakan\, NADI Pekan Pakan
END:VEVENT
BEGIN:VEVENT
DTSTART;TZID=Asia/Kuala_Lumpur:20251016T150000
DTEND;TZID=Asia/Kuala_Lumpur:20251016T170000
DTSTAMP:20260422T184655
CREATED:20251015T022755Z
LAST-MODIFIED:20251015T022755Z
UID:1458-1760626800-1760634000@pekanpakan.nadi.my
SUMMARY:AWARENESS- Lindungi Data Peribadi & Buli Siber
DESCRIPTION:Lindungi Data Peribadi & Buli Siber
URL:https://pekanpakan.nadi.my/event/awareness-lindungi-data-peribadi-buli-siber/
LOCATION:NADI Pekan Pakan\, NADI Pekan Pakan
END:VEVENT
BEGIN:VEVENT
DTSTART;TZID=Asia/Kuala_Lumpur:20251016T140000
DTEND;TZID=Asia/Kuala_Lumpur:20251016T170000
DTSTAMP:20260422T184655
CREATED:20251015T022629Z
LAST-MODIFIED:20251015T022629Z
UID:1456-1760623200-1760634000@pekanpakan.nadi.my
SUMMARY:PRENEUE- EMPOWHER COHORT 5
DESCRIPTION:Webinar Pemasaran & Operasi Perniagaan
URL:https://pekanpakan.nadi.my/event/preneue-empowher-cohort-5/
LOCATION:NADI Pekan Pakan\, NADI Pekan Pakan
END:VEVENT
BEGIN:VEVENT
DTSTART;TZID=Asia/Kuala_Lumpur:20251012T140000
DTEND;TZID=Asia/Kuala_Lumpur:20251012T170000
DTSTAMP:20260422T184655
CREATED:20251008T064602Z
LAST-MODIFIED:20251008T064602Z
UID:1451-1760277600-1760288400@pekanpakan.nadi.my
SUMMARY:Awareness Classes
DESCRIPTION:
URL:https://pekanpakan.nadi.my/event/awareness-classes/
LOCATION:NADI Pekan Pakan\, NADI Pekan Pakan
END:VEVENT
BEGIN:VEVENT
DTSTART;TZID=Asia/Kuala_Lumpur:20251011T140000
DTEND;TZID=Asia/Kuala_Lumpur:20251011T170000
DTSTAMP:20260422T184655
CREATED:20251008T064826Z
LAST-MODIFIED:20251008T064826Z
UID:1453-1760191200-1760202000@pekanpakan.nadi.my
SUMMARY:Robotics Class - Primary Students
DESCRIPTION:
URL:https://pekanpakan.nadi.my/event/robotics-class-primary-students/
LOCATION:NADI Pekan Pakan\, NADI Pekan Pakan
END:VEVENT
BEGIN:VEVENT
DTSTART;VALUE=DATE:20251009
DTEND;VALUE=DATE:20251010
DTSTAMP:20260422T184655
CREATED:20251008T041654Z
LAST-MODIFIED:20251008T041654Z
UID:1447-1759968000-1760054399@pekanpakan.nadi.my
SUMMARY:Program Kempen Internet Selamat (KIS)Di SK Nanga Entaih & SK Nanga Sengaih
DESCRIPTION:Taklimat melibat para pelajar dan Guru.
URL:https://pekanpakan.nadi.my/event/program-kempen-internet-selamat-kisdi-sk-nanga-entaih-sk-nanga-sengaih/
LOCATION:SK NANGA ENTAIH & SK NANGA SENGAIH
END:VEVENT
END:VCALENDAR